BEGIN:VCALENDAR
VERSION:2.0
PRODID:icalendar-ruby
CALSCALE:GREGORIAN
METHOD:PUBLISH
BEGIN:VEVENT
DTSTAMP:20260423T104701Z
UID:266-4393169@westgatealliance.ca
DTSTART;VALUE=DATE:20260424
DTEND;VALUE=DATE:20260426
CLASS:PUBLIC
CREATED:20260331T103727
DESCRIPTION:Registration Closed Feb 25.
LAST-MODIFIED:20260331T103727
LOCATION:Briercrest
SUMMARY:Youth Quake -Sr. High
URL;VALUE=URI:https://www.westgatealliance.ca/events/youth-quake-sr-high/20
 26-04-24
END:VEVENT
END:VCALENDAR
