BEGIN:VCALENDAR
VERSION:2.0
PRODID:icalendar-ruby
CALSCALE:GREGORIAN
METHOD:PUBLISH
BEGIN:VEVENT
DTSTAMP:20260423T213634Z
UID:193-4737510@westgatealliance.ca
DTSTART:20261030T003000Z
DTEND:20261030T020000Z
CLASS:PUBLIC
CREATED:20260423T132156
DESCRIPTION:
LAST-MODIFIED:20260423T132156
LOCATION:
SUMMARY:Worship Practice
URL;VALUE=URI:https://www.westgatealliance.ca/events/worship-practice/2026-
 10-29
END:VEVENT
END:VCALENDAR
