BEGIN:VCALENDAR
VERSION:2.0
PRODID:icalendar-ruby
CALSCALE:GREGORIAN
METHOD:PUBLISH
BEGIN:VEVENT
DTSTAMP:20260423T174237Z
UID:193-4735013@westgatealliance.ca
DTSTART:20261016T003000Z
DTEND:20261016T020000Z
CLASS:PUBLIC
CREATED:20260423T102441
DESCRIPTION:
LAST-MODIFIED:20260423T102441
LOCATION:
SUMMARY:Worship Practice
URL;VALUE=URI:https://www.westgatealliance.ca/events/worship-practice/2026-
 10-15
END:VEVENT
END:VCALENDAR
