BEGIN:VCALENDAR
VERSION:2.0
PRODID:icalendar-ruby
CALSCALE:GREGORIAN
METHOD:PUBLISH
BEGIN:VEVENT
DTSTAMP:20260423T160539Z
UID:193-4732517@westgatealliance.ca
DTSTART:20261009T003000Z
DTEND:20261009T020000Z
CLASS:PUBLIC
CREATED:20260423T073148
DESCRIPTION:
LAST-MODIFIED:20260423T073148
LOCATION:
SUMMARY:Worship Practice
URL;VALUE=URI:https://www.westgatealliance.ca/events/worship-practice/2026-
 10-08
END:VEVENT
END:VCALENDAR
