BEGIN:VCALENDAR
VERSION:2.0
PRODID:icalendar-ruby
CALSCALE:GREGORIAN
METHOD:PUBLISH
BEGIN:VEVENT
DTSTAMP:20260423T143604Z
UID:193-4732516@westgatealliance.ca
DTSTART:20261002T003000Z
DTEND:20261002T020000Z
CLASS:PUBLIC
CREATED:20260423T073148
DESCRIPTION:
LAST-MODIFIED:20260423T073148
LOCATION:
SUMMARY:Worship Practice
URL;VALUE=URI:https://www.westgatealliance.ca/events/worship-practice/2026-
 10-01
END:VEVENT
END:VCALENDAR
