BEGIN:VCALENDAR
VERSION:2.0
PRODID:icalendar-ruby
CALSCALE:GREGORIAN
METHOD:PUBLISH
BEGIN:VEVENT
DTSTAMP:20260423T124746Z
UID:193-4730020@westgatealliance.ca
DTSTART:20260925T003000Z
DTEND:20260925T020000Z
CLASS:PUBLIC
CREATED:20260423T043619
DESCRIPTION:
LAST-MODIFIED:20260423T043619
LOCATION:
SUMMARY:Worship Practice
URL;VALUE=URI:https://www.westgatealliance.ca/events/worship-practice/2026-
 09-24
END:VEVENT
END:VCALENDAR
