BEGIN:VCALENDAR
VERSION:2.0
PRODID:icalendar-ruby
CALSCALE:GREGORIAN
METHOD:PUBLISH
BEGIN:VEVENT
DTSTAMP:20260423T105100Z
UID:267-4393171@westgatealliance.ca
DTSTART;VALUE=DATE:20260427
DTEND;VALUE=DATE:20260427
CLASS:PUBLIC
CREATED:20260331T103847
DESCRIPTION:
LAST-MODIFIED:20260331T103847
LOCATION:
SUMMARY:No Youth: Due to Youth Quake Weekend
URL;VALUE=URI:https://www.westgatealliance.ca/events/no-youth-due-to-youth-
 quake-weekend/2026-04-27
END:VEVENT
END:VCALENDAR
