BEGIN:VCALENDAR
VERSION:2.0
PRODID:icalendar-ruby
CALSCALE:GREGORIAN
METHOD:PUBLISH
BEGIN:VEVENT
DTSTAMP:20260425T012800Z
UID:197-4757561@westgatealliance.ca
DTSTART:20261002T160000Z
DTEND:20261002T164500Z
CLASS:PUBLIC
CREATED:20260424T184414
DESCRIPTION:A physical activity program for older Adults (50+)\nTwice a wee
 k Wednesday and Friday Mornings\nWhat to bring: Water bottle\, comfotable 
 shoes and a resistance band if you have one. If you'd like to purchase one
  for $5\, we will have some available.
LAST-MODIFIED:20260424T184414
LOCATION:3315 Centennial Drive
SUMMARY:Free Forever in Motion classes for 50+
URL;VALUE=URI:https://www.westgatealliance.ca/events/free-forever-in-motion
 -classes-for-50--197/2026-10-02
ATTACH;FILENAME=forever in motion.png;FMTTYPE=image/png:https://dq5pwpg1q8r
 u0.cloudfront.net/2024/08/16/22/26/41/7355d142-d31b-4bb0-af0a-f75639dd92cb
 /forever%20in%20motion.png
END:VEVENT
END:VCALENDAR
